BEGIN:VCALENDAR
VERSION:2.0
PRODID:-//BTA - BioTech Association - ECPv6.15.20//NONSGML v1.0//EN
CALSCALE:GREGORIAN
METHOD:PUBLISH
X-ORIGINAL-URL:https://bta.or.at
X-WR-CALDESC:Veranstaltungen für BTA - BioTech Association
REFRESH-INTERVAL;VALUE=DURATION:PT1H
X-Robots-Tag:noindex
X-PUBLISHED-TTL:PT1H
BEGIN:VTIMEZONE
TZID:Europe/Vienna
BEGIN:DAYLIGHT
TZOFFSETFROM:+0100
TZOFFSETTO:+0200
TZNAME:CEST
DTSTART:20230326T010000
END:DAYLIGHT
BEGIN:STANDARD
TZOFFSETFROM:+0200
TZOFFSETTO:+0100
TZNAME:CET
DTSTART:20231029T010000
END:STANDARD
BEGIN:DAYLIGHT
TZOFFSETFROM:+0100
TZOFFSETTO:+0200
TZNAME:CEST
DTSTART:20240331T010000
END:DAYLIGHT
BEGIN:STANDARD
TZOFFSETFROM:+0200
TZOFFSETTO:+0100
TZNAME:CET
DTSTART:20241027T010000
END:STANDARD
BEGIN:DAYLIGHT
TZOFFSETFROM:+0100
TZOFFSETTO:+0200
TZNAME:CEST
DTSTART:20250330T010000
END:DAYLIGHT
BEGIN:STANDARD
TZOFFSETFROM:+0200
TZOFFSETTO:+0100
TZNAME:CET
DTSTART:20251026T010000
END:STANDARD
END:VTIMEZONE
BEGIN:VEVENT
DTSTART;TZID=Europe/Vienna:20240911T120000
DTEND;TZID=Europe/Vienna:20240911T160000
DTSTAMP:20260420T114429
CREATED:20240729T140836Z
LAST-MODIFIED:20240812T082614Z
UID:10000028-1726056000-1726070400@bta.or.at
SUMMARY:Typisierungsaktion an der FH Campus Wien mit der BioTech Association
DESCRIPTION:Gemeinsam mit dem Verein Geben für Leben – Leukämiehilfe Österreich und der FH Campus Wien veranstalten wir am 11.09.2024 eine Typisierungsaktion um Menschen mit Leukämie zu helfen. \nUm mehr über Leukämie-Typisierungen zu erfahren\, kannst du dir beim Typisierungsevent\, am 11.09.2024 um 12:00 im Raum C.E.21 im Haupthaus der FH Campus Wien\, einen Informationsvortrag dazu anhören. \nIm Anschluss an den Vortrag findet die eigentliche Typisierungskation statt\, diese dauert von 13:00 – 16:00 und findet ebenfalls im Raum C.E.21 im Haupthaus der FH Campus Wien statt. Falls du im Vorfeld mehr über die Typisierungsmöglichkeiten erfahren möchtest\, findest du alles was du brauchst unter folgendem Link: https://www.gebenfuerleben.at/infos/seite/Spender+werden. \n  \nWir freuen uns schon sehr auf eine rege Teilnahme – denn schon in nur wenigen Minuten kannst du mit deiner Typisierung das Leben eines Menschen retten! \nEuer BTA Team
URL:https://bta.or.at/event/typisierungsaktion-am-fh-campus-mit-der-biotech-association/
LOCATION:FH Campus Wien (Raum C.E.21)\, Favoritenstraße 222\, Wien\, Wien\, 1010\, Österreich
CATEGORIES:BTA Event,External Event
ATTACH;FMTTYPE=image/jpeg:https://bta.or.at/wp-content/uploads/2024/07/6cf0bcb8d53d3ab6187c64c40da20ae4ab833a13.jpg
ORGANIZER;CN="BTA":MAILTO:at.biotechassociation@gmail.com
END:VEVENT
END:VCALENDAR