BEGIN:VCALENDAR
VERSION:2.0
PRODID:-//BTA - BioTech Association - ECPv6.15.20//NONSGML v1.0//EN
CALSCALE:GREGORIAN
METHOD:PUBLISH
X-WR-CALNAME:BTA - BioTech Association
X-ORIGINAL-URL:https://bta.or.at
X-WR-CALDESC:Veranstaltungen für BTA - BioTech Association
REFRESH-INTERVAL;VALUE=DURATION:PT1H
X-Robots-Tag:noindex
X-PUBLISHED-TTL:PT1H
BEGIN:VTIMEZONE
TZID:Europe/Paris
BEGIN:DAYLIGHT
TZOFFSETFROM:+0100
TZOFFSETTO:+0200
TZNAME:CEST
DTSTART:20220327T010000
END:DAYLIGHT
BEGIN:STANDARD
TZOFFSETFROM:+0200
TZOFFSETTO:+0100
TZNAME:CET
DTSTART:20221030T010000
END:STANDARD
BEGIN:DAYLIGHT
TZOFFSETFROM:+0100
TZOFFSETTO:+0200
TZNAME:CEST
DTSTART:20230326T010000
END:DAYLIGHT
BEGIN:STANDARD
TZOFFSETFROM:+0200
TZOFFSETTO:+0100
TZNAME:CET
DTSTART:20231029T010000
END:STANDARD
BEGIN:DAYLIGHT
TZOFFSETFROM:+0100
TZOFFSETTO:+0200
TZNAME:CEST
DTSTART:20240331T010000
END:DAYLIGHT
BEGIN:STANDARD
TZOFFSETFROM:+0200
TZOFFSETTO:+0100
TZNAME:CET
DTSTART:20241027T010000
END:STANDARD
END:VTIMEZONE
BEGIN:VEVENT
DTSTART;TZID=Europe/Paris:20230615T100000
DTEND;TZID=Europe/Paris:20230615T180000
DTSTAMP:20260419T210417
CREATED:20230524T061537Z
LAST-MODIFIED:20230524T061537Z
UID:10000011-1686823200-1686852000@bta.or.at
SUMMARY:OPEN HOUSE - 60 JAHRE SZABO-SCANDIC
DESCRIPTION:SZABO-SCANDIC feiert 60-jähriges Bestehen am österreichischen Life Science Markt. Im Zuge dessen laden wir Sie herzlichst zu unserem Open House am 15. Juni 2023 von 10:00 bis 18:00 Uhr in die Quellenstraße 110\, 1100 Wien ein. Wir freuen uns auf Ihr Kommen! \nDAS ERWARTET SIE BEI UNS\n\nGlücksrad mit tollen Preisen\ngeführte Weinverkostung (ab 14:00 Uhr)\nkalte Speisen und erfrischende Getränke\nErstveröffentlichung Imagefilm von SZABO-SCANDIC\nStationen zu unseren 4 Fachbereichen\nFührung durch Haus und Lager (11:00\, 13:00\, 15:00\, 17:00 Uhr)
URL:https://bta.or.at/event/open-house-60-jahre-szabo-scandic/
LOCATION:SZABO-SCANDIC HandelsgmbH\, Quellenstraße 110\, Vienna\, Vienna\, 1100\, Austria
ATTACH;FMTTYPE=image/jpeg:https://bta.or.at/wp-content/uploads/2023/05/60_Jahre_SZ-SC_DE.jpg
ORGANIZER;CN="SZABO-SCANDIC HandelsgmbH":MAILTO:mail@szabo-scandic.com
END:VEVENT
END:VCALENDAR