BEGIN:VCALENDAR
VERSION:2.0
PRODID:-//BTA - BioTech Association - ECPv6.15.20//NONSGML v1.0//EN
CALSCALE:GREGORIAN
METHOD:PUBLISH
X-WR-CALNAME:BTA - BioTech Association
X-ORIGINAL-URL:https://bta.or.at
X-WR-CALDESC:Veranstaltungen für BTA - BioTech Association
REFRESH-INTERVAL;VALUE=DURATION:PT1H
X-Robots-Tag:noindex
X-PUBLISHED-TTL:PT1H
BEGIN:VTIMEZONE
TZID:Europe/Paris
BEGIN:DAYLIGHT
TZOFFSETFROM:+0100
TZOFFSETTO:+0200
TZNAME:CEST
DTSTART:20220327T010000
END:DAYLIGHT
BEGIN:STANDARD
TZOFFSETFROM:+0200
TZOFFSETTO:+0100
TZNAME:CET
DTSTART:20221030T010000
END:STANDARD
BEGIN:DAYLIGHT
TZOFFSETFROM:+0100
TZOFFSETTO:+0200
TZNAME:CEST
DTSTART:20230326T010000
END:DAYLIGHT
BEGIN:STANDARD
TZOFFSETFROM:+0200
TZOFFSETTO:+0100
TZNAME:CET
DTSTART:20231029T010000
END:STANDARD
BEGIN:DAYLIGHT
TZOFFSETFROM:+0100
TZOFFSETTO:+0200
TZNAME:CEST
DTSTART:20240331T010000
END:DAYLIGHT
BEGIN:STANDARD
TZOFFSETFROM:+0200
TZOFFSETTO:+0100
TZNAME:CET
DTSTART:20241027T010000
END:STANDARD
END:VTIMEZONE
BEGIN:VEVENT
DTSTART;VALUE=DATE:20230322
DTEND;VALUE=DATE:20230325
DTSTAMP:20260420T025706
CREATED:20230308T085750Z
LAST-MODIFIED:20230308T090304Z
UID:10000004-1679443200-1679702399@bta.or.at
SUMMARY:SY-STEM 22. - 24. MARCH 2023\, VIENNA (AUSTRIA)
DESCRIPTION:SY-Stem – a symposium focusing on the next generation of stem cell researchers – is an annual meeting\, located in the beautiful city of Vienna. It is organized jointly by the Research Institute of Molecular Pathology (IMP) and Institute of Molecular Biotechnology (IMBA). \nIn this two-and-a-half-day event\, recognized keynote speakers\, as well as aspiring young group leaders will discuss the latest advances in stem cell biology in an informal and collaborative setting. Our goal is to strengthen a cooperative and dynamic spirit in this research area. \nThe 2023 sessions include the following topics: \nCell Biology of Stem Cells \nModeling Human and Primate Early Development \nMorphogenetic Principles \nStem Cell Derived In Vitro Systems
URL:https://bta.or.at/event/sy-stem-22-24-march-2023-vienna-austria/
LOCATION:Institute of Molecular Biotechnology Dr. Bohr-Gasse 3 1030 Vienna\, Austria\, Dr. Bohr-Gasse 3\, Vienna\, Vienna\, 1030\, Austria
ORGANIZER;CN="IMBA - Institute of Molecular Biotechnology":MAILTO:office@imba.oeaw.ac.at
END:VEVENT
END:VCALENDAR